BEGIN:VCALENDAR
PRODID:-//Atomes//ROR Geronto//FR
VERSION:2.0
CALSCALE:GREGORIAN
BEGIN:VEVENT
DTSTAMP:20250128T110317Z
DTSTART:20250210T120000
DTEND:20250210T140000
SUMMARY:test-1
UID:e8189088-da24-402e-97a9-2481cf4aa156
LOCATION:Test
END:VEVENT
END:VCALENDAR
