BEGIN:VCALENDAR
PRODID:-//Atomes//ROR Geronto//FR
VERSION:2.0
CALSCALE:GREGORIAN
BEGIN:VEVENT
DTSTAMP:20250325T102524Z
DTSTART:20250602T090000
DTEND:20250602T120000
SUMMARY:rencontre-des-usagers-3
UID:02098b8b-025b-400a-8118-bd3530755419
LOCATION:AP SANTE 93\, 11 avenue ALBERT THOMAS\, 93190 Livry-Gargan - Sal
 le de réunion
END:VEVENT
END:VCALENDAR
