BEGIN:VCALENDAR
PRODID:-//Atomes//ROR Geronto//FR
VERSION:2.0
CALSCALE:GREGORIAN
BEGIN:VEVENT
DTSTAMP:20250325T095558Z
DTSTART:20250315T090000
DTEND:20250315T170000
SUMMARY:les-journees-de-la-prevention-to
UID:e0db29df-16ab-4ec1-a5a5-79c8d47327f3
LOCATION:Centre commercial CARREFOUR
END:VEVENT
END:VCALENDAR
