BEGIN:VCALENDAR
PRODID:-//Atomes//ROR Geronto//FR
VERSION:2.0
CALSCALE:GREGORIAN
BEGIN:VEVENT
DTSTAMP:20250325T102107Z
DTSTART:20250522T140000
DTEND:20250522T170000
SUMMARY:les-journees-de-la-prevention-mi
UID:ac3b1a76-1b2d-4159-b1b7-b305696f7f21
END:VEVENT
END:VCALENDAR
